BEGIN:VCALENDAR
VERSION:2.0
PRODID:-//InterCity Amateur Radio Club - ECPv6.15.20//NONSGML v1.0//EN
CALSCALE:GREGORIAN
METHOD:PUBLISH
X-ORIGINAL-URL:https://w8we.org
X-WR-CALDESC:Events for InterCity Amateur Radio Club
REFRESH-INTERVAL;VALUE=DURATION:PT1H
X-Robots-Tag:noindex
X-PUBLISHED-TTL:PT1H
BEGIN:VTIMEZONE
TZID:America/New_York
BEGIN:DAYLIGHT
TZOFFSETFROM:-0500
TZOFFSETTO:-0400
TZNAME:EDT
DTSTART:20250309T070000
END:DAYLIGHT
BEGIN:STANDARD
TZOFFSETFROM:-0400
TZOFFSETTO:-0500
TZNAME:EST
DTSTART:20251102T060000
END:STANDARD
BEGIN:DAYLIGHT
TZOFFSETFROM:-0500
TZOFFSETTO:-0400
TZNAME:EDT
DTSTART:20260308T070000
END:DAYLIGHT
BEGIN:STANDARD
TZOFFSETFROM:-0400
TZOFFSETTO:-0500
TZNAME:EST
DTSTART:20261101T060000
END:STANDARD
BEGIN:DAYLIGHT
TZOFFSETFROM:-0500
TZOFFSETTO:-0400
TZNAME:EDT
DTSTART:20270314T070000
END:DAYLIGHT
BEGIN:STANDARD
TZOFFSETFROM:-0400
TZOFFSETTO:-0500
TZNAME:EST
DTSTART:20271107T060000
END:STANDARD
END:VTIMEZONE
BEGIN:VEVENT
DTSTART;TZID=America/New_York:20260206T190000
DTEND;TZID=America/New_York:20260206T203000
DTSTAMP:20260423T152819
CREATED:20251113T020629Z
LAST-MODIFIED:20251115T190646Z
UID:204-1770404400-1770409800@w8we.org
SUMMARY:IARC Club meeting February 6\, 2026 - 7:00 PM
DESCRIPTION:IARC Club meeting February 6\, 2026 – 7:00 PM\nPizza Hut (In front of Walmart)\n365 N Lexington-Springmill Rd\, Mansfield\, OH 44906
URL:https://w8we.org/event/iarc-club-meeting-february-6-2026-700-pm/
LOCATION:Subscriptions
CATEGORIES:IARC
END:VEVENT
BEGIN:VEVENT
DTSTART;TZID=America/New_York:20260219T170000
DTEND;TZID=America/New_York:20260219T190000
DTSTAMP:20260423T152819
CREATED:20260107T200404Z
LAST-MODIFIED:20260207T041902Z
UID:2128-1771520400-1771527600@w8we.org
SUMMARY:Crawford Co. NWS SkyWarn Class February 19\, 2026 6-8 PM Bucyrus\, OH
DESCRIPTION:Crawford Co. NWS SkyWarn Class February 19\, 2026 5:00 PM Bucyrus\, OH \nBucyrus Public Library \n200 E Mansfield St\, Bucyrus\, OH 44820
URL:https://w8we.org/event/nws-skywarn-class-february-13-2026-500-pm-bucyrus-oh/
LOCATION:Bucyrus Public Library\, 200 E Mansfield St\, Bucyrus\, OH\, 44820\, United States
CATEGORIES:NWS Cleveland
END:VEVENT
BEGIN:VEVENT
DTSTART;TZID=America/New_York:20260221T180000
DTEND;TZID=America/New_York:20260221T203000
DTSTAMP:20260423T152819
CREATED:20251113T021100Z
LAST-MODIFIED:20251115T190622Z
UID:205-1771696800-1771705800@w8we.org
SUMMARY:ARES Dinner & Workshop February 21\, 2026\, 6:00 PM
DESCRIPTION:ARES Dinner & Workshop February 21\, 2026\, 6:00 PM\nPizza Hut (In front of Walmart)\n365 N Lexington-Springmill Rd\, Mansfield\, OH 44906
URL:https://w8we.org/event/ares-dinner-workshop-february-21-2026-600-pm/
LOCATION:Subscriptions
CATEGORIES:ARES
END:VEVENT
BEGIN:VEVENT
DTSTART;TZID=America/New_York:20260224T180000
DTEND;TZID=America/New_York:20260224T200000
DTSTAMP:20260423T152819
CREATED:20260123T184955Z
LAST-MODIFIED:20260202T004536Z
UID:2144-1771956000-1771963200@w8we.org
SUMMARY:Morrow Co. NWS SkyWarn Class February 24\, 2026 6:00 - 8:00 PM
DESCRIPTION:Morrow Co. NWS SkyWarn Class February 24\, 2026 6:00 – 8:00 PM \nMorrow County EMA\, 140 S Main St \nMt Gilead\, OH 43338
URL:https://w8we.org/event/morrow-co-nws-skywarn-class-february-19-2026-500-pm/
LOCATION:Morrow County EMA\, 140 S Main St\, Mt Gilead\, OH\, 43338\, United States
CATEGORIES:NWS Cleveland
END:VEVENT
END:VCALENDAR