BEGIN:VCALENDAR
VERSION:2.0
PRODID:-//InterCity Amateur Radio Club - ECPv6.15.20//NONSGML v1.0//EN
CALSCALE:GREGORIAN
METHOD:PUBLISH
X-WR-CALNAME:InterCity Amateur Radio Club
X-ORIGINAL-URL:https://w8we.org
X-WR-CALDESC:Events for InterCity Amateur Radio Club
REFRESH-INTERVAL;VALUE=DURATION:PT1H
X-Robots-Tag:noindex
X-PUBLISHED-TTL:PT1H
BEGIN:VTIMEZONE
TZID:America/New_York
BEGIN:DAYLIGHT
TZOFFSETFROM:-0500
TZOFFSETTO:-0400
TZNAME:EDT
DTSTART:20250309T070000
END:DAYLIGHT
BEGIN:STANDARD
TZOFFSETFROM:-0400
TZOFFSETTO:-0500
TZNAME:EST
DTSTART:20251102T060000
END:STANDARD
BEGIN:DAYLIGHT
TZOFFSETFROM:-0500
TZOFFSETTO:-0400
TZNAME:EDT
DTSTART:20260308T070000
END:DAYLIGHT
BEGIN:STANDARD
TZOFFSETFROM:-0400
TZOFFSETTO:-0500
TZNAME:EST
DTSTART:20261101T060000
END:STANDARD
BEGIN:DAYLIGHT
TZOFFSETFROM:-0500
TZOFFSETTO:-0400
TZNAME:EDT
DTSTART:20270314T070000
END:DAYLIGHT
BEGIN:STANDARD
TZOFFSETFROM:-0400
TZOFFSETTO:-0500
TZNAME:EST
DTSTART:20271107T060000
END:STANDARD
END:VTIMEZONE
BEGIN:VEVENT
DTSTART;TZID=America/New_York:20260501T180000
DTEND;TZID=America/New_York:20260501T203000
DTSTAMP:20260423T155400
CREATED:20251113T030513Z
LAST-MODIFIED:20260423T000131Z
UID:211-1777658400-1777667400@w8we.org
SUMMARY:IARC Club meeting May 1\, 2026 IARC - 6:00 PM
DESCRIPTION:IARC Club meeting May 1\, 2026 IARC – 6:00 PM\nPizza Hut (In front of Walmart)\n365 N Lexington-Springmill Rd\, Mansfield\, OH 44906
URL:https://w8we.org/event/iarc-club-meeting-may-1-2026-iarc-700-pm/
LOCATION:Pizza Hut\, 365 N Lexington-Springmill Rd\, Mansfield\, OH\, 44906\, United States
CATEGORIES:IARC
END:VEVENT
BEGIN:VEVENT
DTSTART;TZID=America/New_York:20260509T120000
DTEND;TZID=America/New_York:20260509T170000
DTSTAMP:20260423T155400
CREATED:20251113T030746Z
LAST-MODIFIED:20251123T160036Z
UID:212-1778328000-1778346000@w8we.org
SUMMARY:LAUREL V.E. FCC License Testing May 9\, 2026 12:15PM
DESCRIPTION:LAUREL V.E. FCC License Testing May 9\, 2026 12:15PM \nNO FEES to take your test! Pre-registration is not needed – Walk-ins are welcome. \nTo register: \n\nSend a message using this form https://tinyl.io/Bwfb\nOR\nsend a email to: dmeadows001@neo.rr.com \n\nThe VE test session will be held at Pizza Hut 365 N Lexington-Springmill Rd\, Mansfield\, OH 44906. In front of WalMart. \nDoors open at 12:30PM \nTesting starts promptly at 1:00PM\, please arrive early to fill out paperwork. FCC no longer will accept a Social Security Number\, only FRN number will be accepted. \nYou MUST Bring: \n\nYour FRN number: (see below)\nPhoto ID\nA copy of your current license / CSCE is required if upgrading\n\nYou CAN Bring: \n\nCalculators are allowed\, but the Memory must be Completely Wiped\, and Cleared.\n\n\nGetting an FCC Registration Number (FRN) in the Universal Licensing System (ULS) \nGo to the FCC Information HERE: https://www.fcc.gov/wireless/support/knowledge-base/universal-licensing-system-uls-resources/getting-fcc-registration
URL:https://w8we.org/event/laurel-v-e-fcc-license-testing-may-2-2026-1215pm/
LOCATION:Pizza Hut\, 365 N Lexington-Springmill Rd\, Mansfield\, OH\, 44906\, United States
CATEGORIES:IARC
END:VEVENT
BEGIN:VEVENT
DTSTART;TZID=America/New_York:20260516T180000
DTEND;TZID=America/New_York:20260516T203000
DTSTAMP:20260423T155400
CREATED:20251113T031020Z
LAST-MODIFIED:20251115T185450Z
UID:213-1778954400-1778963400@w8we.org
SUMMARY:ARES Dinner & Workshop May 16\, 2026\, 6:00 PM
DESCRIPTION:ARES Dinner & Workshop May 16\, 2026\, 6:00 PM\nPizza Hut (In front of Walmart)\n365 N Lexington-Springmill Rd\, Mansfield\, OH 44906
URL:https://w8we.org/event/ares-dinner-workshop-may-16-2026-600-pm/
LOCATION:Subscriptions
CATEGORIES:ARES
END:VEVENT
BEGIN:VEVENT
DTSTART;TZID=America/New_York:20260605T190000
DTEND;TZID=America/New_York:20260605T210000
DTSTAMP:20260423T155400
CREATED:20251113T031548Z
LAST-MODIFIED:20251115T185418Z
UID:214-1780686000-1780693200@w8we.org
SUMMARY:IARC Club meeting June 5\, 2026 - 7:00 PM
DESCRIPTION:IARC Club meeting June 5\, 2026 – 7:00 PM\nPizza Hut (In front of Walmart)\n365 N Lexington-Springmill Rd\, Mansfield\, OH 44906
URL:https://w8we.org/event/iarc-club-meeting-june-5-2026-700-pm/
LOCATION:Subscriptions
CATEGORIES:IARC
END:VEVENT
BEGIN:VEVENT
DTSTART;TZID=America/New_York:20260620T180000
DTEND;TZID=America/New_York:20260620T203000
DTSTAMP:20260423T155400
CREATED:20251113T032419Z
LAST-MODIFIED:20251115T185346Z
UID:215-1781978400-1781987400@w8we.org
SUMMARY:ARES Dinner & Workshop June 20\, 2026\, 6:00 PM
DESCRIPTION:ARES Dinner & Workshop June 20\, 2026\, 6:00 PM\nPizza Hut (In front of Walmart)\n365 N Lexington-Springmill Rd\, Mansfield\, OH 44906
URL:https://w8we.org/event/ares-dinner-workshop-june-20-2026-600-pm/
LOCATION:Subscriptions
CATEGORIES:ARES
END:VEVENT
BEGIN:VEVENT
DTSTART;TZID=America/New_York:20260627T080000
DTEND;TZID=America/New_York:20260628T170000
DTSTAMP:20260423T155400
CREATED:20260309T160758Z
LAST-MODIFIED:20260309T160758Z
UID:2272-1782547200-1782666000@w8we.org
SUMMARY:2026 Field Day - Lions club park - June 27th & 28th
DESCRIPTION:Lions Club Park\n3708 Snodgrass Rd\, Mansfield\, OH 44903
URL:https://w8we.org/event/2026-field-day-lions-club-park-june-27th-28th/
LOCATION:Lions Club Park\, 3708 Snodgrass Rd\, Mansfield\, OH\, 44903\, United States
CATEGORIES:IARC
END:VEVENT
BEGIN:VEVENT
DTSTART;TZID=America/New_York:20260711T110000
DTEND;TZID=America/New_York:20260711T190000
DTSTAMP:20260423T155400
CREATED:20260207T202423Z
LAST-MODIFIED:20260421T162355Z
UID:2216-1783767600-1783796400@w8we.org
SUMMARY:Mansfield 2026 Mid-Summer Hamfest - July 11\, 2026 11 AM TO 7PM
DESCRIPTION:Updated Mansfield 2026 Mid-Summer Hamfest – July 11\, 2026  TIME CHANGE NOW: 11am to 7pm
URL:https://w8we.org/event/mansfield-2026-hamfest-july-11-2026/
LOCATION:The Ontario Center (old richland mall)\, 2209 Richland Mall\, Ontario\, OH\, 44906\, United States
CATEGORIES:Trunkfest
END:VEVENT
BEGIN:VEVENT
DTSTART;TZID=America/New_York:20260904T190000
DTEND;TZID=America/New_York:20260904T203000
DTSTAMP:20260423T155400
CREATED:20251113T032750Z
LAST-MODIFIED:20251115T185319Z
UID:216-1788548400-1788553800@w8we.org
SUMMARY:IARC Club meeting September 4\, 2026 - 7:00 PM
DESCRIPTION:IARC Club meeting September 4\, 2026 – 7:00 PM\nPizza Hut (In front of Walmart)\n365 N Lexington-Springmill Rd\, Mansfield\, OH 44906
URL:https://w8we.org/event/september-4-2026-700-pm/
LOCATION:Subscriptions
CATEGORIES:IARC
END:VEVENT
BEGIN:VEVENT
DTSTART;TZID=America/New_York:20260912T120000
DTEND;TZID=America/New_York:20260912T170000
DTSTAMP:20260423T155400
CREATED:20251113T033150Z
LAST-MODIFIED:20251123T160157Z
UID:217-1789214400-1789232400@w8we.org
SUMMARY:LAUREL V.E. FCC License Testing September 12\, 2026 12:15PM
DESCRIPTION:LAUREL V.E. FCC License Testing September 12\, 2026 12:15PM \nNO FEES to take your test! Pre-registration is not needed – Walk-ins are welcome. \nTo register: \n\nSend a message using this form https://tinyl.io/Bwfb\nOR\nsend a email to: dmeadows001@neo.rr.com \n\nThe VE test session will be held at Pizza Hut 365 N Lexington-Springmill Rd\, Mansfield\, OH 44906. In front of WalMart. \nDoors open at 12:30PM \nTesting starts promptly at 1:00PM\, please arrive early to fill out paperwork. FCC no longer will accept a Social Security Number\, only FRN number will be accepted. \nYou MUST Bring: \n\nYour FRN number: (see below)\nPhoto ID\nA copy of your current license / CSCE is required if upgrading\n\nYou CAN Bring: \n\nCalculators are allowed\, but the Memory must be Completely Wiped\, and Cleared.\n\n\nGetting an FCC Registration Number (FRN) in the Universal Licensing System (ULS) \nGo to the FCC Information HERE: https://www.fcc.gov/wireless/support/knowledge-base/universal-licensing-system-uls-resources/getting-fcc-registration
URL:https://w8we.org/event/laurel-v-e-fcc-license-testing-september-5-2026-1215pm/
LOCATION:Pizza Hut\, 365 N Lexington-Springmill Rd\, Mansfield\, OH\, 44906\, United States
CATEGORIES:IARC
END:VEVENT
BEGIN:VEVENT
DTSTART;TZID=America/New_York:20260919T180000
DTEND;TZID=America/New_York:20260919T203000
DTSTAMP:20260423T155400
CREATED:20251113T033456Z
LAST-MODIFIED:20251115T185155Z
UID:218-1789840800-1789849800@w8we.org
SUMMARY:ARES Dinner & Workshop September 19\, 2026\, 6:00 PM
DESCRIPTION:ARES Dinner & Workshop September 19\, 2026\, 6:00 PM\nPizza Hut (In front of Walmart)\n365 N Lexington-Springmill Rd\, Mansfield\, OH 44906
URL:https://w8we.org/event/ares-dinner-workshop-september-19-2026-600-pm/
LOCATION:Subscriptions
CATEGORIES:ARES
END:VEVENT
BEGIN:VEVENT
DTSTART;TZID=America/New_York:20261002T190000
DTEND;TZID=America/New_York:20261002T203000
DTSTAMP:20260423T155400
CREATED:20251113T033756Z
LAST-MODIFIED:20251115T185128Z
UID:219-1790967600-1790973000@w8we.org
SUMMARY:IARC Club meeting October 2\, 2026 - 7:00 PM
DESCRIPTION:IARC Club meeting October 2\, 2026 – 7:00 PM\nPizza Hut (In front of Walmart)\n365 N Lexington-Springmill Rd\, Mansfield\, OH 44906
URL:https://w8we.org/event/iarc-club-meeting-october-2-2026-700-pm/
LOCATION:Subscriptions
CATEGORIES:IARC
END:VEVENT
BEGIN:VEVENT
DTSTART;TZID=America/New_York:20261017T180000
DTEND;TZID=America/New_York:20261017T203000
DTSTAMP:20260423T155400
CREATED:20251113T034314Z
LAST-MODIFIED:20251115T185105Z
UID:220-1792260000-1792269000@w8we.org
SUMMARY:ARES Dinner & Workshop October 17\, 2026\, 6:00 PM
DESCRIPTION:ARES Dinner & Workshop October 17\, 2026\, 6:00 PM\nPizza Hut (In front of Walmart)\n365 N Lexington-Springmill Rd\, Mansfield\, OH 44906
URL:https://w8we.org/event/ares-dinner-workshop-october-17-2026-600-pm/
LOCATION:Subscriptions
CATEGORIES:ARES
END:VEVENT
BEGIN:VEVENT
DTSTART;TZID=America/New_York:20261106T190000
DTEND;TZID=America/New_York:20261106T203000
DTSTAMP:20260423T155400
CREATED:20251113T035037Z
LAST-MODIFIED:20251115T185041Z
UID:221-1793991600-1793997000@w8we.org
SUMMARY:IARC Club meeting November 6\, 2026 - 7:00 PM
DESCRIPTION:IARC Club meeting November 6\, 2026 – 7:00 PM\nPizza Hut (In front of Walmart)\n365 N Lexington-Springmill Rd\, Mansfield\, OH 44906
URL:https://w8we.org/event/iarc-club-meeting-november-6-2026-700-pm/
LOCATION:Subscriptions
CATEGORIES:IARC
END:VEVENT
BEGIN:VEVENT
DTSTART;TZID=America/New_York:20261114T120000
DTEND;TZID=America/New_York:20261114T170000
DTSTAMP:20260423T155400
CREATED:20251113T035254Z
LAST-MODIFIED:20251123T160304Z
UID:222-1794657600-1794675600@w8we.org
SUMMARY:LAUREL V.E. FCC License Testing November 14\, 2026 12:15PM
DESCRIPTION:LAUREL V.E. FCC License Testing November 14\, 2026 12:15PM \nNO FEES to take your test! Pre-registration is not needed – Walk-ins are welcome. \nTo register: \n\nSend a message using this form https://tinyl.io/Bwfb\nOR\nsend a email to: dmeadows001@neo.rr.com \n\nThe VE test session will be held at Pizza Hut 365 N Lexington-Springmill Rd\, Mansfield\, OH 44906. In front of WalMart. \nDoors open at 12:30PM \nTesting starts promptly at 1:00PM\, please arrive early to fill out paperwork. FCC no longer will accept a Social Security Number\, only FRN number will be accepted. \nYou MUST Bring: \n\nYour FRN number: (see below)\nPhoto ID\nA copy of your current license / CSCE is required if upgrading\n\nYou CAN Bring: \n\nCalculators are allowed\, but the Memory must be Completely Wiped\, and Cleared.\n\n\nGetting an FCC Registration Number (FRN) in the Universal Licensing System (ULS) \nGo to the FCC Information HERE: https://www.fcc.gov/wireless/support/knowledge-base/universal-licensing-system-uls-resources/getting-fcc-registration
URL:https://w8we.org/event/laurel-v-e-fcc-license-testing-november-7-2026-1215pm/
LOCATION:Pizza Hut\, 365 N Lexington-Springmill Rd\, Mansfield\, OH\, 44906\, United States
CATEGORIES:IARC
END:VEVENT
BEGIN:VEVENT
DTSTART;TZID=America/New_York:20261121T180000
DTEND;TZID=America/New_York:20261121T203000
DTSTAMP:20260423T155400
CREATED:20251113T035523Z
LAST-MODIFIED:20251115T184930Z
UID:223-1795284000-1795293000@w8we.org
SUMMARY:ARES Dinner & Workshop November 21\, 2026\, 6:00 PM
DESCRIPTION:ARES Dinner & Workshop November 21\, 2026\, 6:00 PM\nPizza Hut (In front of Walmart)\n365 N Lexington-Springmill Rd\, Mansfield\, OH 44906
URL:https://w8we.org/event/ares-dinner-workshop-november-21-2026-600-pm/
LOCATION:Subscriptions
CATEGORIES:ARES
END:VEVENT
BEGIN:VEVENT
DTSTART;TZID=America/New_York:20261204T190000
DTEND;TZID=America/New_York:20261204T203000
DTSTAMP:20260423T155400
CREATED:20251113T035805Z
LAST-MODIFIED:20251115T184908Z
UID:224-1796410800-1796416200@w8we.org
SUMMARY:IARC Club meeting December 4\, 2026 - 7:00 PM
DESCRIPTION:IARC Club meeting December 4\, 2026 – 7:00 PM\nPizza Hut (In front of Walmart)\n365 N Lexington-Springmill Rd\, Mansfield\, OH 44906
URL:https://w8we.org/event/iarc-club-meeting-december-4-2026-700-pm/
LOCATION:Subscriptions
CATEGORIES:IARC
END:VEVENT
BEGIN:VEVENT
DTSTART;TZID=America/New_York:20261219T180000
DTEND;TZID=America/New_York:20261219T203000
DTSTAMP:20260423T155400
CREATED:20251113T040014Z
LAST-MODIFIED:20251115T184833Z
UID:225-1797703200-1797712200@w8we.org
SUMMARY:ARES Dinner & Workshop December 19\, 2026\, 6:00 PM
DESCRIPTION:ARES Dinner & Workshop December 19\, 2026\, 6:00 PM\nPizza Hut (In front of Walmart)\n365 N Lexington-Springmill Rd\, Mansfield\, OH 44906
URL:https://w8we.org/event/ares-dinner-workshop-december-19-2026-600-pm/
LOCATION:Pizza Hut\, 365 N Lexington-Springmill Rd\, Mansfield\, OH\, 44906\, United States
CATEGORIES:ARES
END:VEVENT
END:VCALENDAR