BEGIN:VCALENDAR
VERSION:2.0
PRODID:-//InterCity Amateur Radio Club - ECPv6.15.20//NONSGML v1.0//EN
CALSCALE:GREGORIAN
METHOD:PUBLISH
X-ORIGINAL-URL:https://w8we.org
X-WR-CALDESC:Events for InterCity Amateur Radio Club
REFRESH-INTERVAL;VALUE=DURATION:PT1H
X-Robots-Tag:noindex
X-PUBLISHED-TTL:PT1H
BEGIN:VTIMEZONE
TZID:America/New_York
BEGIN:DAYLIGHT
TZOFFSETFROM:-0500
TZOFFSETTO:-0400
TZNAME:EDT
DTSTART:20250309T070000
END:DAYLIGHT
BEGIN:STANDARD
TZOFFSETFROM:-0400
TZOFFSETTO:-0500
TZNAME:EST
DTSTART:20251102T060000
END:STANDARD
BEGIN:DAYLIGHT
TZOFFSETFROM:-0500
TZOFFSETTO:-0400
TZNAME:EDT
DTSTART:20260308T070000
END:DAYLIGHT
BEGIN:STANDARD
TZOFFSETFROM:-0400
TZOFFSETTO:-0500
TZNAME:EST
DTSTART:20261101T060000
END:STANDARD
BEGIN:DAYLIGHT
TZOFFSETFROM:-0500
TZOFFSETTO:-0400
TZNAME:EDT
DTSTART:20270314T070000
END:DAYLIGHT
BEGIN:STANDARD
TZOFFSETFROM:-0400
TZOFFSETTO:-0500
TZNAME:EST
DTSTART:20271107T060000
END:STANDARD
END:VTIMEZONE
BEGIN:VEVENT
DTSTART;TZID=America/New_York:20260425T100000
DTEND;TZID=America/New_York:20260425T160000
DTSTAMP:20260423T135642
CREATED:20251113T030203Z
LAST-MODIFIED:20260405T133448Z
UID:210-1777111200-1777132800@w8we.org
SUMMARY:NVIS Day Saturday\, April 25\, 2026  10 A.M.–4 P.M
DESCRIPTION:April 25th marks another significant event in the Ohio Section\, the Ohio NVIS Antenna Day. As you are aware\, this day presents an opportunity for enthusiasts to gather and evaluate their antenna configurations. \nKicking off at 10:00 AM\, this event is not a formal competition. Its primary objective is to simultaneously engage multiple counties in Ohio\, testing their antennas and facilitating communications among them. \nWe anticipate that this gathering will provide an enjoyable platform for camaraderie\, experimentation\, and testing within our beloved hobby. \nW8SGT at the Ohio EMA will be active and monitoring the following (band conditions permitting) \n\n3902\n7240\nDMR ARES Talkgroup 31395\n146.760/R PL 123 Columbus\n\nAlthough the objective is to contact via HF\, feel free to call in on DMR or VHF to help schedule your contact. \nEXCHANGE \nPlease exchange the following: \n\n6 digit Maidenhead Grid\nCounty\nSignal Report\nIndicate if you are an EOC station\, or an ARES official (ASEC\, DEC\, EC\, AEC)
URL:https://w8we.org/event/ares-dinner-workshop-april-18-2026-600-pm/
LOCATION:Subscriptions
CATEGORIES:ARRL
END:VEVENT
END:VCALENDAR