BEGIN:VCALENDAR
VERSION:2.0
PRODID:-//InterCity Amateur Radio Club - ECPv6.15.20//NONSGML v1.0//EN
CALSCALE:GREGORIAN
METHOD:PUBLISH
X-WR-CALNAME:InterCity Amateur Radio Club
X-ORIGINAL-URL:https://w8we.org
X-WR-CALDESC:Events for InterCity Amateur Radio Club
REFRESH-INTERVAL;VALUE=DURATION:PT1H
X-Robots-Tag:noindex
X-PUBLISHED-TTL:PT1H
BEGIN:VTIMEZONE
TZID:America/New_York
BEGIN:DAYLIGHT
TZOFFSETFROM:-0500
TZOFFSETTO:-0400
TZNAME:EDT
DTSTART:20250309T070000
END:DAYLIGHT
BEGIN:STANDARD
TZOFFSETFROM:-0400
TZOFFSETTO:-0500
TZNAME:EST
DTSTART:20251102T060000
END:STANDARD
BEGIN:DAYLIGHT
TZOFFSETFROM:-0500
TZOFFSETTO:-0400
TZNAME:EDT
DTSTART:20260308T070000
END:DAYLIGHT
BEGIN:STANDARD
TZOFFSETFROM:-0400
TZOFFSETTO:-0500
TZNAME:EST
DTSTART:20261101T060000
END:STANDARD
BEGIN:DAYLIGHT
TZOFFSETFROM:-0500
TZOFFSETTO:-0400
TZNAME:EDT
DTSTART:20270314T070000
END:DAYLIGHT
BEGIN:STANDARD
TZOFFSETFROM:-0400
TZOFFSETTO:-0500
TZNAME:EST
DTSTART:20271107T060000
END:STANDARD
END:VTIMEZONE
BEGIN:VEVENT
DTSTART;TZID=America/New_York:20260331T180000
DTEND;TZID=America/New_York:20260331T200000
DTSTAMP:20260423T135524
CREATED:20260123T194349Z
LAST-MODIFIED:20260123T194349Z
UID:2153-1774980000-1774987200@w8we.org
SUMMARY:Wayne Co. NWS SkyWarn Class March 31\, 2026 6:00-8:00 PM
DESCRIPTION:Wayne Co. NWS SkyWarn Class March 31\, 2026 6:00-8:00 PM \nWayne county public library\, 220 W Liberty St\,  \nWooster\, OH 44691
URL:https://w8we.org/event/wayne-co-nws-skywarn-class-march-31-2026-600-800-pm/
LOCATION:Wayne county public library\, 220 W Liberty St\, Wooster\, OH\, 44691\, United States
CATEGORIES:NWS Cleveland
END:VEVENT
END:VCALENDAR