BEGIN:VCALENDAR
VERSION:2.0
PRODID:-//InterCity Amateur Radio Club - ECPv6.15.20//NONSGML v1.0//EN
CALSCALE:GREGORIAN
METHOD:PUBLISH
X-ORIGINAL-URL:https://w8we.org
X-WR-CALDESC:Events for InterCity Amateur Radio Club
REFRESH-INTERVAL;VALUE=DURATION:PT1H
X-Robots-Tag:noindex
X-PUBLISHED-TTL:PT1H
BEGIN:VTIMEZONE
TZID:America/New_York
BEGIN:DAYLIGHT
TZOFFSETFROM:-0500
TZOFFSETTO:-0400
TZNAME:EDT
DTSTART:20250309T070000
END:DAYLIGHT
BEGIN:STANDARD
TZOFFSETFROM:-0400
TZOFFSETTO:-0500
TZNAME:EST
DTSTART:20251102T060000
END:STANDARD
BEGIN:DAYLIGHT
TZOFFSETFROM:-0500
TZOFFSETTO:-0400
TZNAME:EDT
DTSTART:20260308T070000
END:DAYLIGHT
BEGIN:STANDARD
TZOFFSETFROM:-0400
TZOFFSETTO:-0500
TZNAME:EST
DTSTART:20261101T060000
END:STANDARD
BEGIN:DAYLIGHT
TZOFFSETFROM:-0500
TZOFFSETTO:-0400
TZNAME:EDT
DTSTART:20270314T070000
END:DAYLIGHT
BEGIN:STANDARD
TZOFFSETFROM:-0400
TZOFFSETTO:-0500
TZNAME:EST
DTSTART:20271107T060000
END:STANDARD
END:VTIMEZONE
BEGIN:VEVENT
DTSTART;TZID=America/New_York:20260306T190000
DTEND;TZID=America/New_York:20260306T203000
DTSTAMP:20260423T154024
CREATED:20251113T023912Z
LAST-MODIFIED:20260123T192018Z
UID:206-1772823600-1772829000@w8we.org
SUMMARY:IARC Club meeting March 6\, 2026 IARC - 7:00 PM
DESCRIPTION:IARC Club meeting March 6\, 2026 IARC – 7:00 PM\nPizza Hut (In front of Walmart)\n365 N Lexington-Springmill Rd\, Mansfield\, OH 44906
URL:https://w8we.org/event/iarc-club-meeting-march-6-2026-iarc-700-pm/
LOCATION:Subscriptions
CATEGORIES:IARC
END:VEVENT
END:VCALENDAR